BEGIN:VCALENDAR
VERSION:2.0
PRODID:-//FDP//NONSGML Website//DE
BEGIN:VEVENT
UID:6bade9d3c7470b088302a92f397009f7fdp
DTSTAMP:20260506T193000Z
DTSTART;TZID=Europe/Berlin:20260506T193000
DTEND;TZID=Europe/Berlin:20260506T213000
SUMMARY:treffen-der-ortsgemeinschaft-nordoestliche-stadtteile-12-15
DESCRIPTION:Sie wollen die FDP kennenlernen? Dann können Sie ganz unverbindlich an dem nächsten Treffen der Ortsgemeinschaft teilnehmen. Der Vorsitzende Rainer Behrend wird Sie vor Ort begrüßen. Wenn Sie teilnehmen möchten, schreiben Sie eine kurze E-Mail [&hellip;]
LOCATION:Restaurant Isolabella\, Altenhöferallee 132
END:VEVENT
END:VCALENDAR